BEGIN:VCALENDAR
VERSION:2.0
PRODID:-//Stadtorchester Andernach - ECPv6.15.20//NONSGML v1.0//EN
CALSCALE:GREGORIAN
METHOD:PUBLISH
X-ORIGINAL-URL:https://www.stadtorchester-andernach.de
X-WR-CALDESC:Veranstaltungen für Stadtorchester Andernach
REFRESH-INTERVAL;VALUE=DURATION:PT1H
X-Robots-Tag:noindex
X-PUBLISHED-TTL:PT1H
BEGIN:VTIMEZONE
TZID:Europe/Berlin
BEGIN:DAYLIGHT
TZOFFSETFROM:+0100
TZOFFSETTO:+0200
TZNAME:CEST
DTSTART:20220327T010000
END:DAYLIGHT
BEGIN:STANDARD
TZOFFSETFROM:+0200
TZOFFSETTO:+0100
TZNAME:CET
DTSTART:20221030T010000
END:STANDARD
BEGIN:DAYLIGHT
TZOFFSETFROM:+0100
TZOFFSETTO:+0200
TZNAME:CEST
DTSTART:20230326T010000
END:DAYLIGHT
BEGIN:STANDARD
TZOFFSETFROM:+0200
TZOFFSETTO:+0100
TZNAME:CET
DTSTART:20231029T010000
END:STANDARD
BEGIN:DAYLIGHT
TZOFFSETFROM:+0100
TZOFFSETTO:+0200
TZNAME:CEST
DTSTART:20240331T010000
END:DAYLIGHT
BEGIN:STANDARD
TZOFFSETFROM:+0200
TZOFFSETTO:+0100
TZNAME:CET
DTSTART:20241027T010000
END:STANDARD
BEGIN:DAYLIGHT
TZOFFSETFROM:+0100
TZOFFSETTO:+0200
TZNAME:CEST
DTSTART:20250330T010000
END:DAYLIGHT
BEGIN:STANDARD
TZOFFSETFROM:+0200
TZOFFSETTO:+0100
TZNAME:CET
DTSTART:20251026T010000
END:STANDARD
BEGIN:DAYLIGHT
TZOFFSETFROM:+0100
TZOFFSETTO:+0200
TZNAME:CEST
DTSTART:20260329T010000
END:DAYLIGHT
BEGIN:STANDARD
TZOFFSETFROM:+0200
TZOFFSETTO:+0100
TZNAME:CET
DTSTART:20261025T010000
END:STANDARD
BEGIN:DAYLIGHT
TZOFFSETFROM:+0100
TZOFFSETTO:+0200
TZNAME:CEST
DTSTART:20270328T010000
END:DAYLIGHT
BEGIN:STANDARD
TZOFFSETFROM:+0200
TZOFFSETTO:+0100
TZNAME:CET
DTSTART:20271031T010000
END:STANDARD
END:VTIMEZONE
BEGIN:VEVENT
DTSTART;TZID=Europe/Berlin:20260322T170000
DTEND;TZID=Europe/Berlin:20260322T193000
DTSTAMP:20260425T135607
CREATED:20251211T104403Z
LAST-MODIFIED:20251211T104403Z
UID:29568-1774198800-1774207800@www.stadtorchester-andernach.de
SUMMARY:2. Frühlingskonzert „Zurück in die Zukunft“
DESCRIPTION:Wer kennt den Spruch nicht: „Früher war alles besser“? Das Stadtorchester Andernach unter der Leitung von Musikdirektor Bertram Kleis lädt Sie ein\, mit uns „Zurück in die Zukunft“ zu reisen. Lassen Sie sich entführen in die Welt der wilden 80er – von Filmklassikern bis hin zur 80er-Kultur erwartet Sie ein buntes Programm der besten Hits. \nUm möglichst vielen Menschen die Gelegenheit zu bieten\, veranstaltet das Stadtorchester Andernach zwei Frühlingskonzerte: \nSamstag\, 21.03.2026\, um 18:00 Uhr \nSonntag\, 22.03.2026\, um 17:00 Uhr \nVeranstaltungsort aller Konzerte ist die Mittelrheinhalle Andernach. \nWir freuen uns darauf\, Sie an einem der Termine begrüßen zu dürfen und gemeinsam die Musik der 80er neu aufleben zu lassen. Weiterführende Informationen finden Sie auf der Homepage des Stadtorchesters Andernach oder auf unseren Social-Media-Kanälen. \nEinlass ist eine Stunde vor Beginn.
URL:https://www.stadtorchester-andernach.de/event-konzert/2-fruehlingskonzert-zurueck-in-die-zukunft/
LOCATION:Mittelrheinhalle Andernach\, Konrad-Adenauer-Allee 1\, Andernach\, 56626
END:VEVENT
BEGIN:VEVENT
DTSTART;TZID=Europe/Berlin:20260321T180000
DTEND;TZID=Europe/Berlin:20260321T203000
DTSTAMP:20260425T135607
CREATED:20251211T104222Z
LAST-MODIFIED:20251211T104308Z
UID:29566-1774116000-1774125000@www.stadtorchester-andernach.de
SUMMARY:1. Frühlingskonzert „Zurück in die Zukunft“
DESCRIPTION:Wer kennt den Spruch nicht: „Früher war alles besser“? Das Stadtorchester Andernach unter der Leitung von Musikdirektor Bertram Kleis lädt Sie ein\, mit uns „Zurück in die Zukunft“ zu reisen. Lassen Sie sich entführen in die Welt der wilden 80er – von Filmklassikern bis hin zur 80er-Kultur erwartet Sie ein buntes Programm der besten Hits. \nUm möglichst vielen Menschen die Gelegenheit zu bieten\, veranstaltet das Stadtorchester Andernach zwei Frühlingskonzerte: \nSamstag\, 21.03.2026\, um 18:00 Uhr \nSonntag\, 22.03.2026\, um 17:00 Uhr \nVeranstaltungsort aller Konzerte ist die Mittelrheinhalle Andernach. \nWir freuen uns darauf\, Sie an einem der Termine begrüßen zu dürfen und gemeinsam die Musik der 80er neu aufleben zu lassen. Weiterführende Informationen finden Sie auf der Homepage des Stadtorchesters Andernach oder auf unseren Social-Media-Kanälen. \nEinlass ist eine Stunde vor Beginn.
URL:https://www.stadtorchester-andernach.de/event-konzert/1-fruehlingskonzert-zurueck-in-die-zukunft/
LOCATION:Mittelrheinhalle Andernach\, Konrad-Adenauer-Allee 1\, Andernach\, 56626
END:VEVENT
BEGIN:VEVENT
DTSTART;TZID=Europe/Berlin:20251221T170000
DTEND;TZID=Europe/Berlin:20251221T193000
DTSTAMP:20260425T135607
CREATED:20250715T170007Z
LAST-MODIFIED:20250715T171744Z
UID:28543-1766336400-1766345400@www.stadtorchester-andernach.de
SUMMARY:Adventskonzert 3
DESCRIPTION:Wer kennt es nicht? Kaum steht das Weihnachtsfest vor der Tür\, verfällt man leicht in Hektik und Stress. Das Essen muss vorbereitet\, das Haus hergerichtet und Geschenke besorgt werden. Gerade dann ist es wichtig innezuhalten und sich auf das Wesentliche zu besinnen. \nDas Stadtorchester unter der Leitung von Musikdirektor Bertram Kleis hat sich dieser Aufgabe verschrieben und präsentiert ein festliches und besinnliches Programm\, um die Herzen der Menschen auf die bevorstehenden Feiertage einzustimmen. \nFreuen Sie sich auf eine vielfältige Auswahl deutscher und internationaler Weihnachtsklassiker sowie weltlicher Weihnachtsmelodien. Die traditionellen Weihnachtslieder zum Mitsingen\, die von Jung und Alt gleichermaßen geliebt werden\, dürfen dabei natürlich nicht fehlen. Wir hoffen\, dass in diesem Jahr wieder aus vollem Herzen mitgesungen werden kann. \n  \nUm möglichst vielen Menschen die Gelegenheit zu bieten\, veranstaltet das Stadtorchester Andernach auch in diesem Jahr drei Adventskonzerte: \n\nFreitag\, 19.12.2025\, um 19:30 Uhr\nSamstag\, 20.12.2025\, um 18:00 Uhr\nSonntag\, 21.12.2025\, um 17:00 Uhr\n\nWir freuen uns darauf\, Sie an einem der Termine begrüßen zu dürfen und gemeinsam die besinnliche Atmosphäre zu genießen. Weiterführende Informationen finden Sie auf der Homepage des Stadtorchesters Andernach unter www.stadtorchester-andernach.de oder auf unseren Social-Media-Kanälen. \nEinlass ist eine Stunde vor Beginn. \n  \nDer Kartenvorverkauf startet am 25.09.2025. \nKarten sind erhältlich bei der Tourist Info der Andernach.net GmbH in der Hochstraße 80\, Telefon 02632 / 987948-0 und über www.ticket-regional.de. \nWeiterführende Informationen finden Sie auf der Homepage des Stadtorchesters Andernach unter www.stadtorchester-andernach.de\, auf Facebook und auf Instagram. \nBild: © Susanne Duda
URL:https://www.stadtorchester-andernach.de/event-konzert/adventskonzert-2025-3/
LOCATION:Mittelrheinhalle Andernach\, Konrad-Adenauer-Allee 1\, Andernach\, 56626
END:VEVENT
BEGIN:VEVENT
DTSTART;TZID=Europe/Berlin:20251220T180000
DTEND;TZID=Europe/Berlin:20251220T203000
DTSTAMP:20260425T135607
CREATED:20250715T165813Z
LAST-MODIFIED:20250715T171651Z
UID:28541-1766253600-1766262600@www.stadtorchester-andernach.de
SUMMARY:Adventskonzert 2
DESCRIPTION:Wer kennt es nicht? Kaum steht das Weihnachtsfest vor der Tür\, verfällt man leicht in Hektik und Stress. Das Essen muss vorbereitet\, das Haus hergerichtet und Geschenke besorgt werden. Gerade dann ist es wichtig innezuhalten und sich auf das Wesentliche zu besinnen. \nDas Stadtorchester unter der Leitung von Musikdirektor Bertram Kleis hat sich dieser Aufgabe verschrieben und präsentiert ein festliches und besinnliches Programm\, um die Herzen der Menschen auf die bevorstehenden Feiertage einzustimmen. \nFreuen Sie sich auf eine vielfältige Auswahl deutscher und internationaler Weihnachtsklassiker sowie weltlicher Weihnachtsmelodien. Die traditionellen Weihnachtslieder zum Mitsingen\, die von Jung und Alt gleichermaßen geliebt werden\, dürfen dabei natürlich nicht fehlen. Wir hoffen\, dass in diesem Jahr wieder aus vollem Herzen mitgesungen werden kann. \n  \nUm möglichst vielen Menschen die Gelegenheit zu bieten\, veranstaltet das Stadtorchester Andernach auch in diesem Jahr drei Adventskonzerte: \n\nFreitag\, 19.12.2025\, um 19:30 Uhr\nSamstag\, 20.12.2025\, um 18:00 Uhr\nSonntag\, 21.12.2025\, um 17:00 Uhr\n\nWir freuen uns darauf\, Sie an einem der Termine begrüßen zu dürfen und gemeinsam die besinnliche Atmosphäre zu genießen. Weiterführende Informationen finden Sie auf der Homepage des Stadtorchesters Andernach unter www.stadtorchester-andernach.de oder auf unseren Social-Media-Kanälen. \nEinlass ist eine Stunde vor Beginn. \n  \nDer Kartenvorverkauf startet am 25.09.2025. \nKarten sind erhältlich bei der Tourist Info der Andernach.net GmbH in der Hochstraße 80\, Telefon 02632 / 987948-0 und über www.ticket-regional.de. \nWeiterführende Informationen finden Sie auf der Homepage des Stadtorchesters Andernach unter www.stadtorchester-andernach.de\, auf Facebook und auf Instagram. \nBild: © Susanne Duda
URL:https://www.stadtorchester-andernach.de/event-konzert/adventskonzert-2025-2/
LOCATION:Mittelrheinhalle Andernach\, Konrad-Adenauer-Allee 1\, Andernach\, 56626
END:VEVENT
BEGIN:VEVENT
DTSTART;TZID=Europe/Berlin:20251219T193000
DTEND;TZID=Europe/Berlin:20251219T220000
DTSTAMP:20260425T135607
CREATED:20250715T165621Z
LAST-MODIFIED:20250715T171620Z
UID:28528-1766172600-1766181600@www.stadtorchester-andernach.de
SUMMARY:Adventskonzert 1
DESCRIPTION:Wer kennt es nicht? Kaum steht das Weihnachtsfest vor der Tür\, verfällt man leicht in Hektik und Stress. Das Essen muss vorbereitet\, das Haus hergerichtet und Geschenke besorgt werden. Gerade dann ist es wichtig innezuhalten und sich auf das Wesentliche zu besinnen. \nDas Stadtorchester unter der Leitung von Musikdirektor Bertram Kleis hat sich dieser Aufgabe verschrieben und präsentiert ein festliches und besinnliches Programm\, um die Herzen der Menschen auf die bevorstehenden Feiertage einzustimmen. \nFreuen Sie sich auf eine vielfältige Auswahl deutscher und internationaler Weihnachtsklassiker sowie weltlicher Weihnachtsmelodien. Die traditionellen Weihnachtslieder zum Mitsingen\, die von Jung und Alt gleichermaßen geliebt werden\, dürfen dabei natürlich nicht fehlen. Wir hoffen\, dass in diesem Jahr wieder aus vollem Herzen mitgesungen werden kann. \n  \nUm möglichst vielen Menschen die Gelegenheit zu bieten\, veranstaltet das Stadtorchester Andernach auch in diesem Jahr drei Adventskonzerte: \n\nFreitag\, 19.12.2025\, um 19:30 Uhr\nSamstag\, 20.12.2025\, um 18:00 Uhr\nSonntag\, 21.12.2025\, um 17:00 Uhr\n\nWir freuen uns darauf\, Sie an einem der Termine begrüßen zu dürfen und gemeinsam die besinnliche Atmosphäre zu genießen. Weiterführende Informationen finden Sie auf der Homepage des Stadtorchesters Andernach unter www.stadtorchester-andernach.de oder auf unseren Social-Media-Kanälen. \nEinlass ist eine Stunde vor Beginn. \n  \nDer Kartenvorverkauf startet am 25.09.2025. \nKarten sind erhältlich bei der Tourist Info der Andernach.net GmbH in der Hochstraße 80\, Telefon 02632 / 987948-0 und über www.ticket-regional.de. \nWeiterführende Informationen finden Sie auf der Homepage des Stadtorchesters Andernach unter www.stadtorchester-andernach.de\, auf Facebook und auf Instagram. \nBild: © Susanne Duda
URL:https://www.stadtorchester-andernach.de/event-konzert/adventskonzert-2025-1/
LOCATION:Mittelrheinhalle Andernach\, Konrad-Adenauer-Allee 1\, Andernach\, 56626
END:VEVENT
BEGIN:VEVENT
DTSTART;TZID=Europe/Berlin:20251003T180000
DTEND;TZID=Europe/Berlin:20251003T203000
DTSTAMP:20260425T135607
CREATED:20250321T182659Z
LAST-MODIFIED:20250321T182659Z
UID:26616-1759514400-1759523400@www.stadtorchester-andernach.de
SUMMARY:Festkonzert zum Tag der deutschen Einheit
DESCRIPTION:Festkonzert zum Tag der Deutschen Einheit \nmit dem Stadtorchester Andernach \nFreitag\, 03.10.2025\, 18:00 Uhr\, Mittelrheinhalle Andernach \nEinlass und Abendkasse jeweils eine Stunde vor Konzertbeginn \nEintritt: 16\,00 € inkl. VVK \n  \nEinigkeit und Recht und Freiheit \nBeim diesjährigen Festkonzert steht das Stadtorchester Andernach wie jedes Jahr unter der Leitung eines renommierten Dirigenten aus dem europäischen Raum. \nIn dieser Eigenschaft und mit dem musikalischen Hintergrund des Dirigenten wird es sowohl für das Publikum als auch für das Orchester ein spannendes musikalisches Erlebnis. \n  \nDer Termin für den Kartenvorverkauf wird rechtzeitig in der Presse bekannt gegeben. \n  \nKarten sind erhältlich bei der Tourist Info der Andernach.net GmbH in der Hochstraße 80\, Telefon 02632 / 987948-0 und über www.ticket-regional.de. \nWeiterführende Informationen finden Sie auf der Homepage des Stadtorchesters Andernach unter www.stadtorchester-andernach.de\, auf Facebook und auf Instagram.
URL:https://www.stadtorchester-andernach.de/event-konzert/festkonzert-zum-tag-der-deutschen-einheit-2/
LOCATION:Mittelrheinhalle Andernach\, Konrad-Adenauer-Allee 1\, Andernach\, 56626
END:VEVENT
BEGIN:VEVENT
DTSTART;TZID=Europe/Berlin:20250406T170000
DTEND;TZID=Europe/Berlin:20250406T193000
DTSTAMP:20260425T135607
CREATED:20241211T205526Z
LAST-MODIFIED:20241211T205700Z
UID:25446-1743958800-1743967800@www.stadtorchester-andernach.de
SUMMARY:Frühlingskonzert (Sonntag)
DESCRIPTION:Für ein Wochenende verwandelt sich die Mittelrheinhalle in Andernach in ein New Yorker Musical-Theater. \nUnter dem Motto „Let’s Go Broadway“ lädt das das Stadtorchester Andernach am Samstag\, 05.04.2024 und Sonntag\, 06.04.2025 zu den Frühlingskonzerten ein. \n“Let’s Go Broadway” bietet 8 Musicals in atemberaubenden 2 ½ Stunden. 4 Dekaden Musicalgeschichte mit Musik rund um Katzen\, Züge\, Löwen\, Vampire und vielem mehr. \nEinlass eine Stunde vor Beginn \nVeranstalter: Stadtorchester Andernach 1968 e.V.\nBilder: © Karl-Peter Schmelzeisen
URL:https://www.stadtorchester-andernach.de/event-konzert/fruehlingskonzert-2025-sonntag/
LOCATION:Mittelrheinhalle Andernach\, Konrad-Adenauer-Allee 1\, Andernach\, 56626
END:VEVENT
BEGIN:VEVENT
DTSTART;TZID=Europe/Berlin:20250405T180000
DTEND;TZID=Europe/Berlin:20250405T203000
DTSTAMP:20260425T135607
CREATED:20241211T205347Z
LAST-MODIFIED:20241211T205650Z
UID:25444-1743876000-1743885000@www.stadtorchester-andernach.de
SUMMARY:Frühlingskonzert (Samstag)
DESCRIPTION:Für ein Wochenende verwandelt sich die Mittelrheinhalle in Andernach in ein New Yorker Musical-Theater. \nUnter dem Motto „Let’s Go Broadway“ lädt das das Stadtorchester Andernach am Samstag\, 05.04.2024 und Sonntag\, 06.04.2025 zu den Frühlingskonzerten ein. \n“Let’s Go Broadway” bietet 8 Musicals in atemberaubenden 2 ½ Stunden. 4 Dekaden Musicalgeschichte mit Musik rund um Katzen\, Züge\, Löwen\, Vampire und vielem mehr. \nEinlass eine Stunde vor Beginn \nVeranstalter: Stadtorchester Andernach 1968 e.V.\nBilder: © Karl-Peter Schmelzeisen
URL:https://www.stadtorchester-andernach.de/event-konzert/fruehlingskonzert-2025-samstag/
LOCATION:Mittelrheinhalle Andernach\, Konrad-Adenauer-Allee 1\, Andernach\, 56626
END:VEVENT
BEGIN:VEVENT
DTSTART;TZID=Europe/Berlin:20241222T170000
DTEND;TZID=Europe/Berlin:20241222T193000
DTSTAMP:20260425T135607
CREATED:20241203T201135Z
LAST-MODIFIED:20241203T201135Z
UID:25309-1734886800-1734895800@www.stadtorchester-andernach.de
SUMMARY:Adventskonzert 3
DESCRIPTION:Seit 1984\, also seit 40 Jahren\, lädt das Stadtorchester im Advent zu festlichen Konzerten ein. Aus anfangs einem wurden rasch zwei und inzwischen bietet das Stadtorchester unter der Leitung von Musikdirektor Bertram Kleis an einem Wochenende drei Termine an\, um dem hektischen Alltag der Vorweihnachtszeit zu entfliehen und sich auf das große Fest einzustimmen. \nDaher bietet das Orchester in diesem Jahr drei Termine zur Auswahl: Freitag\, 20.12.2024\, 19:30 Uhr\, Samstag\, 21.12.2024\, 18:00 Uhr und Sonntag\, 22.12.2024\, 17:00 Uhr. Veranstaltungsort aller Konzerte ist die Mittelrheinhalle Andernach. \nWie in jedem Jahr stehen neben deutschen und internationalen weihnachtlichen Melodien auch weltlich-weihnachtliche Titel auf dem Programm. Selbstverständlich werden auch die allseits beliebten traditionellen Weihnachtslieder zum Mitsingen des „Mittelrheinhallen-Chors“ nicht fehlen. \nEinlass eine Stunde vor Beginn
URL:https://www.stadtorchester-andernach.de/event-konzert/adventskonzert-3/
LOCATION:Mittelrheinhalle Andernach\, Konrad-Adenauer-Allee 1\, Andernach\, 56626
END:VEVENT
BEGIN:VEVENT
DTSTART;TZID=Europe/Berlin:20241221T180000
DTEND;TZID=Europe/Berlin:20241221T203000
DTSTAMP:20260425T135607
CREATED:20241203T201050Z
LAST-MODIFIED:20241203T201050Z
UID:25307-1734804000-1734813000@www.stadtorchester-andernach.de
SUMMARY:Adventskonzert 2
DESCRIPTION:Seit 1984\, also seit 40 Jahren\, lädt das Stadtorchester im Advent zu festlichen Konzerten ein. Aus anfangs einem wurden rasch zwei und inzwischen bietet das Stadtorchester unter der Leitung von Musikdirektor Bertram Kleis an einem Wochenende drei Termine an\, um dem hektischen Alltag der Vorweihnachtszeit zu entfliehen und sich auf das große Fest einzustimmen. \nDaher bietet das Orchester in diesem Jahr drei Termine zur Auswahl: Freitag\, 20.12.2024\, 19:30 Uhr\, Samstag\, 21.12.2024\, 18:00 Uhr und Sonntag\, 22.12.2024\, 17:00 Uhr. Veranstaltungsort aller Konzerte ist die Mittelrheinhalle Andernach. \nWie in jedem Jahr stehen neben deutschen und internationalen weihnachtlichen Melodien auch weltlich-weihnachtliche Titel auf dem Programm. Selbstverständlich werden auch die allseits beliebten traditionellen Weihnachtslieder zum Mitsingen des „Mittelrheinhallen-Chors“ nicht fehlen. \nEinlass eine Stunde vor Beginn
URL:https://www.stadtorchester-andernach.de/event-konzert/adventskonzert-2/
LOCATION:Mittelrheinhalle Andernach\, Konrad-Adenauer-Allee 1\, Andernach\, 56626
END:VEVENT
BEGIN:VEVENT
DTSTART;TZID=Europe/Berlin:20241220T193000
DTEND;TZID=Europe/Berlin:20241220T220000
DTSTAMP:20260425T135607
CREATED:20241203T200957Z
LAST-MODIFIED:20241203T200957Z
UID:25305-1734723000-1734732000@www.stadtorchester-andernach.de
SUMMARY:Adventskonzert 1
DESCRIPTION:Seit 1984\, also seit 40 Jahren\, lädt das Stadtorchester im Advent zu festlichen Konzerten ein. Aus anfangs einem wurden rasch zwei und inzwischen bietet das Stadtorchester unter der Leitung von Musikdirektor Bertram Kleis an einem Wochenende drei Termine an\, um dem hektischen Alltag der Vorweihnachtszeit zu entfliehen und sich auf das große Fest einzustimmen. \nDaher bietet das Orchester in diesem Jahr drei Termine zur Auswahl: Freitag\, 20.12.2024\, 19:30 Uhr\, Samstag\, 21.12.2024\, 18:00 Uhr und Sonntag\, 22.12.2024\, 17:00 Uhr. Veranstaltungsort aller Konzerte ist die Mittelrheinhalle Andernach. \nWie in jedem Jahr stehen neben deutschen und internationalen weihnachtlichen Melodien auch weltlich-weihnachtliche Titel auf dem Programm. Selbstverständlich werden auch die allseits beliebten traditionellen Weihnachtslieder zum Mitsingen des „Mittelrheinhallen-Chors“ nicht fehlen. \nEinlass eine Stunde vor Beginn
URL:https://www.stadtorchester-andernach.de/event-konzert/adventskonzert-1/
LOCATION:Mittelrheinhalle Andernach\, Konrad-Adenauer-Allee 1\, Andernach\, 56626
END:VEVENT
BEGIN:VEVENT
DTSTART;TZID=Europe/Berlin:20241122T193000
DTEND;TZID=Europe/Berlin:20241122T220000
DTSTAMP:20260425T135607
CREATED:20240815T185442Z
LAST-MODIFIED:20240815T185442Z
UID:23705-1732303800-1732312800@www.stadtorchester-andernach.de
SUMMARY:Benefzikonzert des Landespolizeiorchester RLP
DESCRIPTION:Die Einnahmen kommen der musikalischen Jugendausbildung des Stadtorchesters Andernach 1968 e.V. zu Gute. \nSeit mehr als einem halben Jahrhundert ist das Landespolizeiorchester Rheinland-Pfalz ein sympathischer Werbeträger für die rheinland-pfälzische Polizei und ein musikalischer Botschafter des Bundeslandes an Rhein und Mosel. 1953 als „Polizei-Musikkorps“ gegründet\, etablierte sich das sinfonische Blasorchester schon bald als ideales Bindeglied zwischen den Bürgern und der Polizei. Durch Gastspiele in ganz Deutschland und im europäischen Ausland und durch zahlreiche Auftritte in Funk und Fernsehen hat das Polizeiorchester Rheinland-Pfalz einen besonderen Bekanntheitsgrad erlangt. \nDas Orchester ist Teil des Polizeipräsidiums Einsatz\, Logistik und Technik des Landes Rheinland-Pfalz und steht seit dem 01. September 2014 unter der Leitung von Stefan Grefig. \nDas Repertoire der 37 professionellen Musikerinnen und Musiker ist so vielseitig wie die Aufgaben des Orchesters. Es reicht von klassischer sinfonischer Musik bis zu zeitgenössischer Originalliteratur und von traditioneller Marschmusik bis hin zur Unterhaltungsmusik.
URL:https://www.stadtorchester-andernach.de/event-konzert/benefzikonzert-des-landespolizeiorchester-rlp/
END:VEVENT
BEGIN:VEVENT
DTSTART;TZID=Europe/Berlin:20241003T180000
DTEND;TZID=Europe/Berlin:20241003T203000
DTSTAMP:20260425T135607
CREATED:20240130T073822Z
LAST-MODIFIED:20240815T185305Z
UID:10399-1727978400-1727987400@www.stadtorchester-andernach.de
SUMMARY:Festkonzert zum Tag der deutschen Einheit
DESCRIPTION:Beim diesjährigen Festkonzert steht das Stadtorchester Andernach wie jedes Jahr unter der Leitung eines renommierten Dirigenten aus dem europäischen Raum. \nIn dieser Eigenschaft und mit diesem musikalischen Hintergrund des Dirigenten wird es sowohl für das Publikum als auch für das Orchester ein spannendes musikalisches Erlebnis. \nEinlass: 17.00 Uhr
URL:https://www.stadtorchester-andernach.de/event-konzert/festkonzert-zum-tag-der-deutschen-einheit/
LOCATION:Mittelrheinhalle Andernach\, Konrad-Adenauer-Allee 1\, Andernach\, 56626
END:VEVENT
BEGIN:VEVENT
DTSTART;TZID=Europe/Berlin:20240317T170000
DTEND;TZID=Europe/Berlin:20240317T193000
DTSTAMP:20260425T135607
CREATED:20240130T072542Z
LAST-MODIFIED:20240130T072542Z
UID:10395-1710694800-1710703800@www.stadtorchester-andernach.de
SUMMARY:2. Frühlingskonzert "Celtic Evening"
DESCRIPTION:An zwei Tagen lädt das Stadtorchester ein zu einem „Celtic Evening“ mit all seinen Traditionen\, der Farbe Grün\, dreiblättrigen Kleeblättern\, kleinen Kobolden und natürlich der Musik!. \nWarum das Alles? Das Wochenende der diesjährigen Frühlingskonzerte fällt zusammen mit den Feierlichkeiten rund um St. Patrick\, dem irischen Schutzheiligen. Dieser irische Feiertag wird auf der ganzen Welt immer bekannter und so natürlich auch in Deutschland. Aber warum auch nicht? Der Tag wird typischerweise fröhlich auf bunten Paraden oder in Pubs mit traditioneller irischer Musik verbracht und reißt jeden mit seiner guten Laune mit. \nGute Laune ist natürlich auch das Stichwort bei allen Frühlingskonzerten des Stadtorchesters und daher laden die Musikerinnen und Musiker unter der Leitung von Musikdirektor Bertram Kleis das Publikum in diesem Jahr zu einer fröhlichen Reise auf die grüne Insel ein. \nDas Stadtorchester bietet ein Konzert mit typisch irischer Musik\, viel Flötenklang und z.B. Highlights aus Lord Of The Dance. Es ist kein Muss\, aber wenn Sie möchten\, besorgen Sie sich grüne Hüte\, grüne Fähnchen oder stecken Sie sich grüne Kleeblätter ans Revers und nehmen Sie an dieser fröhlichen Veranstaltung teil. \nEinlass: eine Stunde vor Beginn
URL:https://www.stadtorchester-andernach.de/event-konzert/2-fruehlingskonzert-celtic-evening/
LOCATION:Mittelrheinhalle Andernach\, Konrad-Adenauer-Allee 1\, Andernach\, 56626
END:VEVENT
BEGIN:VEVENT
DTSTART;TZID=Europe/Berlin:20240316T180000
DTEND;TZID=Europe/Berlin:20240316T203000
DTSTAMP:20260425T135607
CREATED:20240130T072409Z
LAST-MODIFIED:20240130T072409Z
UID:10391-1710612000-1710621000@www.stadtorchester-andernach.de
SUMMARY:1. Frühlingskonzert "Celtic Evening"
DESCRIPTION:An zwei Tagen lädt das Stadtorchester ein zu einem „Celtic Evening“ mit all seinen Traditionen\, der Farbe Grün\, dreiblättrigen Kleeblättern\, kleinen Kobolden und natürlich der Musik!. \nWarum das Alles? Das Wochenende der diesjährigen Frühlingskonzerte fällt zusammen mit den Feierlichkeiten rund um St. Patrick\, dem irischen Schutzheiligen. Dieser irische Feiertag wird auf der ganzen Welt immer bekannter und so natürlich auch in Deutschland. Aber warum auch nicht? Der Tag wird typischerweise fröhlich auf bunten Paraden oder in Pubs mit traditioneller irischer Musik verbracht und reißt jeden mit seiner guten Laune mit. \nGute Laune ist natürlich auch das Stichwort bei allen Frühlingskonzerten des Stadtorchesters und daher laden die Musikerinnen und Musiker unter der Leitung von Musikdirektor Bertram Kleis das Publikum in diesem Jahr zu einer fröhlichen Reise auf die grüne Insel ein. \nDas Stadtorchester bietet ein Konzert mit typisch irischer Musik\, viel Flötenklang und z.B. Highlights aus Lord Of The Dance. Es ist kein Muss\, aber wenn Sie möchten\, besorgen Sie sich grüne Hüte\, grüne Fähnchen oder stecken Sie sich grüne Kleeblätter ans Revers und nehmen Sie an dieser fröhlichen Veranstaltung teil. \nEinlass: eine Stunde vor Beginn
URL:https://www.stadtorchester-andernach.de/event-konzert/1-fruehlingskonzert-celtic-evening/
LOCATION:Mittelrheinhalle Andernach\, Konrad-Adenauer-Allee 1\, Andernach\, 56626
END:VEVENT
BEGIN:VEVENT
DTSTART;TZID=Europe/Berlin:20230801T080000
DTEND;TZID=Europe/Berlin:20230801T170000
DTSTAMP:20260425T135607
CREATED:20230515T093503Z
LAST-MODIFIED:20230515T093503Z
UID:1113-1690876800-1690909200@www.stadtorchester-andernach.de
SUMMARY:Beginn Kartenvorverkauf Tag der Deutschen Einheit
DESCRIPTION:Ab sofort startet der Kartenvorverkauf im KulturPunkt Andernach\, Hochstraße 52
URL:https://www.stadtorchester-andernach.de/event-konzert/beginn-kartenvorverkauf-tag-der-deutschen-einheit/
LOCATION:KulturPunkt Andernach\, Hochstraße 52\, Andernach\, 56626
CATEGORIES:Konzerte
ATTACH;FMTTYPE=image/png:https://www.stadtorchester-andernach.de/wp-content/uploads/2023/04/dummy-image-square.png
END:VEVENT
END:VCALENDAR